BEGIN:VCALENDAR
VERSION:2.0
PRODID:-//https://www.digitale-academie.nl///NONSGML kigkonsult.se iCalcreator 2.10.15//
METHOD:PUBLISH
BEGIN:VEVENT
UID:20260424T102846CEST-6551rdZvcz@https://www.digitale-academie.nl/
DTSTAMP:20260424T082846Z
DESCRIPTION:De basiscursus Webdesign is onderdeel van de cursus webdesign m
 et WordPress & Joomla! voor beginners. Waar deze laatste cursus 12 weken b
 eslaat\, duurt de basiscursus slechts 5 weken. De cursus richt zich op men
 sen die uitsluitend de basisbeginselen van webdesign willen leren\, zonder
  de verdieping van een CMS systeem.\nVoor deze opleiding geldt\, dat wij g
 een voorkennis op het vlak van webdesign veronderstellen. https://www.digi
 tale-academie.nl/cursus-agenda/evenement/274-basiscursus-webdesign.html
DTSTART:20200210T090000Z
DTEND:20200323T090000Z
LOCATION:Deventer (Visbystraat 21 \, 7418 BE \, Deventer \, Overijssel \, N
 ederland)
SUMMARY:Basiscursus Webdesign
URL:https://www.digitale-academie.nl/cursus-agenda/evenement/274-basiscursu
 s-webdesign.html
END:VEVENT
END:VCALENDAR
