BEGIN:VCALENDAR
VERSION:2.0
PRODID:-//https://www.digitale-academie.nl///NONSGML kigkonsult.se iCalcreator 2.10.15//
METHOD:PUBLISH
BEGIN:VEVENT
UID:20260422T232151CEST-4955t5WX2A@https://www.digitale-academie.nl/
DTSTAMP:20260422T212151Z
DESCRIPTION:De cursus webdesign met Wordpress & Joomla! voor beginners is d
 oor de digitale academie in het leven geroepen om startende webdesigners d
 e gelegenheid te geven om direct hoger in de markt in te stappen. Waar de 
 meeste opleiders ervoor kiezen een aparte webdesign opleiding aan te biede
 n\, achten wij het noodzakelijk dat nieuwe webdesigners direct ervaring op
  doen met Content Management Systemen (CMS). Zonder deze kennis is de drem
 pel voor de arbeidsmarkt toch aanzienlijk groter. Wij hebben ervoor gekoze
 n om de Open Source CMS Wordpress en Joomla! binnen deze opleiding in te z
 etten als leidende platforms.\nVoor deze opleiding geldt\, dat wij geen vo
 orkennis op het vlak van webdesign veronderstellen.\nLees meer over de opl
 eiding Webdesign met Wordpress & Joomla! >> https://www.digitale-academie.
 nl/cursus-agenda/evenement/271-cursus-webdesign-met-wordpress-joomla.html
DTSTART:20190924T080000Z
DTEND:20200121T150000Z
LOCATION:Deventer (Visbystraat 21 \, 7418 BE \, Deventer \, Overijssel \, N
 ederland)
SUMMARY:Cursus Webdesign met Wordpress & Joomla!
URL:https://www.digitale-academie.nl/cursus-agenda/evenement/271-cursus-web
 design-met-wordpress-joomla.html
END:VEVENT
END:VCALENDAR
